BEGIN:VCALENDAR
VERSION:2.0
PRODID:-//Tukios.com/
BEGIN:VEVENT
UID:31fe9ac8-8bfc-4666-b708-81d30e6fec5c@www.plantsvillefuneralhome.com
DTSTAMP:20260425T160706Z
DTSTART:20260516T170000Z
DTEND:20260516T180000Z
SUMMARY:Celebration of Life
DESCRIPTION:
URL:https://www.plantsvillefuneralhome.com/obituaries/phyllis-koeller
LOCATION:Grace United Methodist Church 121 Pleasant St  Southington CT 
	06489
GEO:41.6008778;-72.8567635
END:VEVENT
END:VCALENDAR