BEGIN:VCALENDAR
VERSION:2.0
PRODID:-//Tukios.com/
BEGIN:VEVENT
UID:581ff73a-3059-40e0-ba79-5d763a909af4@www.plantsvillefuneralhome.com
DTSTAMP:20260421T005559Z
DTSTART:20260425T150000Z
DTEND:20260425T160000Z
SUMMARY:Graveside Service with Military Honors
DESCRIPTION:
URL:https://www.plantsvillefuneralhome.com/obituaries/reba-politz
LOCATION: 95 Flanders Street  Southington CT 06489
GEO:41.6167881;-72.8696147
END:VEVENT
END:VCALENDAR