BEGIN:VCALENDAR
VERSION:2.0
PRODID:-//Tukios.com/
BEGIN:VEVENT
UID:51e24751-217d-4a0e-926c-490e5ed56865@www.plantsvillefuneralhome.com
DTSTAMP:20260423T013623Z
DTSTART:20260428T150000Z
DTEND:20260428T160000Z
SUMMARY:Mass of Christian Burial
DESCRIPTION:
URL:https://www.plantsvillefuneralhome.com/obituaries/william-mcnerney
LOCATION: 254 Burritt St  Southington CT 06479
GEO:41.5686608;-72.9067902
END:VEVENT
END:VCALENDAR